BEGIN:VCALENDAR
VERSION:2.0
PRODID:-//St. Stephanus-Realschule plus - ECPv6.5.1.3//NONSGML v1.0//EN
CALSCALE:GREGORIAN
METHOD:PUBLISH
X-WR-CALNAME:St. Stephanus-Realschule plus
X-ORIGINAL-URL:https://realschule-plus-nachtsheim.de
X-WR-CALDESC:Veranstaltungen für St. Stephanus-Realschule plus
REFRESH-INTERVAL;VALUE=DURATION:PT1H
X-Robots-Tag:noindex
X-PUBLISHED-TTL:PT1H
BEGIN:VTIMEZONE
TZID:Europe/Berlin
BEGIN:DAYLIGHT
TZOFFSETFROM:+0100
TZOFFSETTO:+0200
TZNAME:CEST
DTSTART:20240331T010000
END:DAYLIGHT
BEGIN:STANDARD
TZOFFSETFROM:+0200
TZOFFSETTO:+0100
TZNAME:CET
DTSTART:20241027T010000
END:STANDARD
END:VTIMEZONE
BEGIN:VEVENT
DTSTART;VALUE=DATE:20241002
DTEND;VALUE=DATE:20241003
DTSTAMP:20260422T224211
CREATED:20240830T104854Z
LAST-MODIFIED:20240830T104854Z
UID:3116-1727827200-1727913599@realschule-plus-nachtsheim.de
SUMMARY:Ausflug WPF Französisch + Klasse 9a
DESCRIPTION:
URL:https://realschule-plus-nachtsheim.de/event/ausflug-wpf-franzoesisch-klasse-9a/
END:VEVENT
BEGIN:VEVENT
DTSTART;VALUE=DATE:20241003
DTEND;VALUE=DATE:20241004
DTSTAMP:20260422T224211
CREATED:20240830T104924Z
LAST-MODIFIED:20240830T104924Z
UID:3118-1727913600-1727999999@realschule-plus-nachtsheim.de
SUMMARY:Tag der deutschen Einheit - unterrichtsfrei
DESCRIPTION:
URL:https://realschule-plus-nachtsheim.de/event/tag-der-deutschen-einheit-unterrichtsfrei/
END:VEVENT
BEGIN:VEVENT
DTSTART;VALUE=DATE:20241004
DTEND;VALUE=DATE:20241005
DTSTAMP:20260422T224211
CREATED:20240830T104942Z
LAST-MODIFIED:20240830T104942Z
UID:3120-1728000000-1728086399@realschule-plus-nachtsheim.de
SUMMARY:1. bewegl. Ferientag
DESCRIPTION:
URL:https://realschule-plus-nachtsheim.de/event/1-bewegl-ferientag/
END:VEVENT
BEGIN:VEVENT
DTSTART;VALUE=DATE:20241007
DTEND;VALUE=DATE:20241009
DTSTAMP:20260422T224211
CREATED:20240830T105011Z
LAST-MODIFIED:20240830T105011Z
UID:3122-1728259200-1728431999@realschule-plus-nachtsheim.de
SUMMARY:Schulfotograf
DESCRIPTION:
URL:https://realschule-plus-nachtsheim.de/event/schulfotograf/
END:VEVENT
BEGIN:VEVENT
DTSTART;VALUE=DATE:20241011
DTEND;VALUE=DATE:20241012
DTSTAMP:20260422T224211
CREATED:20240830T105121Z
LAST-MODIFIED:20240830T105121Z
UID:3126-1728604800-1728691199@realschule-plus-nachtsheim.de
SUMMARY:Wandertag für alle Klassen
DESCRIPTION:
URL:https://realschule-plus-nachtsheim.de/event/wandertag-fuer-alle-klassen/
END:VEVENT
BEGIN:VEVENT
DTSTART;VALUE=DATE:20241014
DTEND;VALUE=DATE:20241026
DTSTAMP:20260422T224211
CREATED:20240830T105143Z
LAST-MODIFIED:20240830T105143Z
UID:3128-1728864000-1729900799@realschule-plus-nachtsheim.de
SUMMARY:Herbstferien
DESCRIPTION:
URL:https://realschule-plus-nachtsheim.de/event/herbstferien/
END:VEVENT
END:VCALENDAR