BEGIN:VCALENDAR
VERSION:2.0
PRODID:-//St. Stephanus-Realschule plus - ECPv6.5.1.3//NONSGML v1.0//EN
CALSCALE:GREGORIAN
METHOD:PUBLISH
X-ORIGINAL-URL:https://realschule-plus-nachtsheim.de
X-WR-CALDESC:Veranstaltungen für St. Stephanus-Realschule plus
REFRESH-INTERVAL;VALUE=DURATION:PT1H
X-Robots-Tag:noindex
X-PUBLISHED-TTL:PT1H
BEGIN:VTIMEZONE
TZID:Europe/Berlin
BEGIN:DAYLIGHT
TZOFFSETFROM:+0100
TZOFFSETTO:+0200
TZNAME:CEST
DTSTART:20240331T010000
END:DAYLIGHT
BEGIN:STANDARD
TZOFFSETFROM:+0200
TZOFFSETTO:+0100
TZNAME:CET
DTSTART:20241027T010000
END:STANDARD
BEGIN:DAYLIGHT
TZOFFSETFROM:+0100
TZOFFSETTO:+0200
TZNAME:CEST
DTSTART:20250330T010000
END:DAYLIGHT
BEGIN:STANDARD
TZOFFSETFROM:+0200
TZOFFSETTO:+0100
TZNAME:CET
DTSTART:20251026T010000
END:STANDARD
END:VTIMEZONE
BEGIN:VEVENT
DTSTART;VALUE=DATE:20241203
DTEND;VALUE=DATE:20241204
DTSTAMP:20260423T150206
CREATED:20241108T113452Z
LAST-MODIFIED:20241108T113452Z
UID:3535-1733184000-1733270399@realschule-plus-nachtsheim.de
SUMMARY:Betriebspräsentation Fa. Griesson
DESCRIPTION:
URL:https://realschule-plus-nachtsheim.de/event/betriebspraesentation-fa-griesson/
END:VEVENT
BEGIN:VEVENT
DTSTART;VALUE=DATE:20241204
DTEND;VALUE=DATE:20241205
DTSTAMP:20260423T150206
CREATED:20241108T112031Z
LAST-MODIFIED:20241108T112031Z
UID:3513-1733270400-1733356799@realschule-plus-nachtsheim.de
SUMMARY:Berufsberatung durch Fr. Hildebrand - Agentur für Arbeit
DESCRIPTION:
URL:https://realschule-plus-nachtsheim.de/event/berufsberatung-durch-fr-hildebrand-agentur-fuer-arbeit-2/
END:VEVENT
BEGIN:VEVENT
DTSTART;TZID=Europe/Berlin:20241204T080000
DTEND;TZID=Europe/Berlin:20241204T100000
DTSTAMP:20260423T150206
CREATED:20240903T063537Z
LAST-MODIFIED:20240903T063555Z
UID:3151-1733299200-1733306400@realschule-plus-nachtsheim.de
SUMMARY:Wege nach der 9/10 -Infoveranstaltung
DESCRIPTION:
URL:https://realschule-plus-nachtsheim.de/event/wege-nach-der-9-10/
END:VEVENT
BEGIN:VEVENT
DTSTART;VALUE=DATE:20241205
DTEND;VALUE=DATE:20241206
DTSTAMP:20260423T150206
CREATED:20241108T112049Z
LAST-MODIFIED:20241108T112049Z
UID:3515-1733356800-1733443199@realschule-plus-nachtsheim.de
SUMMARY:Berufsberatung durch Fr. Hildebrand - Agentur für Arbeit
DESCRIPTION:
URL:https://realschule-plus-nachtsheim.de/event/berufsberatung-durch-fr-hildebrand-agentur-fuer-arbeit-3/
END:VEVENT
BEGIN:VEVENT
DTSTART;VALUE=DATE:20241211
DTEND;VALUE=DATE:20241212
DTSTAMP:20260423T150206
CREATED:20241108T113614Z
LAST-MODIFIED:20241108T113614Z
UID:3537-1733875200-1733961599@realschule-plus-nachtsheim.de
SUMMARY:Workshop mit der Fa. Niesmann und Bischoff
DESCRIPTION:
URL:https://realschule-plus-nachtsheim.de/event/workshop-mit-der-fa-niesmann-und-bischoff/
END:VEVENT
BEGIN:VEVENT
DTSTART;VALUE=DATE:20241219
DTEND;VALUE=DATE:20241220
DTSTAMP:20260423T150206
CREATED:20241108T112103Z
LAST-MODIFIED:20241108T112103Z
UID:3517-1734566400-1734652799@realschule-plus-nachtsheim.de
SUMMARY:Berufsberatung durch Fr. Hildebrand - Agentur für Arbeit
DESCRIPTION:
URL:https://realschule-plus-nachtsheim.de/event/berufsberatung-durch-fr-hildebrand-agentur-fuer-arbeit-4/
END:VEVENT
BEGIN:VEVENT
DTSTART;TZID=Europe/Berlin:20241220T080000
DTEND;TZID=Europe/Berlin:20241220T083000
DTSTAMP:20260423T150206
CREATED:20240903T063751Z
LAST-MODIFIED:20240903T063751Z
UID:3155-1734681600-1734683400@realschule-plus-nachtsheim.de
SUMMARY:Weihnachtsgottesdienst
DESCRIPTION:
URL:https://realschule-plus-nachtsheim.de/event/weihnachtsgottesdienst/
END:VEVENT
BEGIN:VEVENT
DTSTART;VALUE=DATE:20241223
DTEND;VALUE=DATE:20250109
DTSTAMP:20260423T150206
CREATED:20240903T063822Z
LAST-MODIFIED:20240903T063822Z
UID:3157-1734912000-1736380799@realschule-plus-nachtsheim.de
SUMMARY:Weihnachtsferien
DESCRIPTION:
URL:https://realschule-plus-nachtsheim.de/event/weihnachtsferien/
END:VEVENT
END:VCALENDAR